BEGIN:VCALENDAR
VERSION:2.0
PRODID:-//Kölner Imkerverein - ECPv6.15.20//NONSGML v1.0//EN
CALSCALE:GREGORIAN
METHOD:PUBLISH
X-ORIGINAL-URL:https://koelner-imkerverein.de
X-WR-CALDESC:Veranstaltungen für Kölner Imkerverein
REFRESH-INTERVAL;VALUE=DURATION:PT1H
X-Robots-Tag:noindex
X-PUBLISHED-TTL:PT1H
BEGIN:VTIMEZONE
TZID:Europe/Berlin
BEGIN:DAYLIGHT
TZOFFSETFROM:+0100
TZOFFSETTO:+0200
TZNAME:CEST
DTSTART:20230326T010000
END:DAYLIGHT
BEGIN:STANDARD
TZOFFSETFROM:+0200
TZOFFSETTO:+0100
TZNAME:CET
DTSTART:20231029T010000
END:STANDARD
BEGIN:DAYLIGHT
TZOFFSETFROM:+0100
TZOFFSETTO:+0200
TZNAME:CEST
DTSTART:20240331T010000
END:DAYLIGHT
BEGIN:STANDARD
TZOFFSETFROM:+0200
TZOFFSETTO:+0100
TZNAME:CET
DTSTART:20241027T010000
END:STANDARD
BEGIN:DAYLIGHT
TZOFFSETFROM:+0100
TZOFFSETTO:+0200
TZNAME:CEST
DTSTART:20250330T010000
END:DAYLIGHT
BEGIN:STANDARD
TZOFFSETFROM:+0200
TZOFFSETTO:+0100
TZNAME:CET
DTSTART:20251026T010000
END:STANDARD
END:VTIMEZONE
BEGIN:VEVENT
DTSTART;TZID=Europe/Berlin:20240719T170000
DTEND;TZID=Europe/Berlin:20240719T200000
DTSTAMP:20260421T155647
CREATED:20240711T125737Z
LAST-MODIFIED:20240711T125737Z
UID:7453-1721408400-1721419200@koelner-imkerverein.de
SUMMARY:Schulungsveranstaltung Vespa Velutina
DESCRIPTION:Ziel ist die Erlangung eines Sachkundenachweises zum Auffinden\, Tilgen der Primärnester und zum Auffinden der Sekundärnester. Dieser Sachkunde-Nachweis wird von der Unteren Naturschutzbehörde Köln anerkannt. \n\n\n\nVeranstalter: Kreisimkerverband Köln \n\n\n\nReferent: Thomas Beissel
URL:https://koelner-imkerverein.de/termin/schulungsveranstaltung-vespa-velutina/
LOCATION:Kalias Köstlichkeiten\, Barbarastr.69\, Köln\, 50735\, Deutschland
END:VEVENT
END:VCALENDAR