BEGIN:VCALENDAR
VERSION:2.0
PRODID:-//Kölner Imkerverein - ECPv6.15.20//NONSGML v1.0//EN
CALSCALE:GREGORIAN
METHOD:PUBLISH
X-WR-CALNAME:Kölner Imkerverein
X-ORIGINAL-URL:https://koelner-imkerverein.de
X-WR-CALDESC:Veranstaltungen für Kölner Imkerverein
REFRESH-INTERVAL;VALUE=DURATION:PT1H
X-Robots-Tag:noindex
X-PUBLISHED-TTL:PT1H
BEGIN:VTIMEZONE
TZID:Europe/Berlin
BEGIN:DAYLIGHT
TZOFFSETFROM:+0100
TZOFFSETTO:+0200
TZNAME:CEST
DTSTART:20230326T010000
END:DAYLIGHT
BEGIN:STANDARD
TZOFFSETFROM:+0200
TZOFFSETTO:+0100
TZNAME:CET
DTSTART:20231029T010000
END:STANDARD
BEGIN:DAYLIGHT
TZOFFSETFROM:+0100
TZOFFSETTO:+0200
TZNAME:CEST
DTSTART:20240331T010000
END:DAYLIGHT
BEGIN:STANDARD
TZOFFSETFROM:+0200
TZOFFSETTO:+0100
TZNAME:CET
DTSTART:20241027T010000
END:STANDARD
BEGIN:DAYLIGHT
TZOFFSETFROM:+0100
TZOFFSETTO:+0200
TZNAME:CEST
DTSTART:20250330T010000
END:DAYLIGHT
BEGIN:STANDARD
TZOFFSETFROM:+0200
TZOFFSETTO:+0100
TZNAME:CET
DTSTART:20251026T010000
END:STANDARD
END:VTIMEZONE
BEGIN:VEVENT
DTSTART;TZID=Europe/Berlin:20240812T000000
DTEND;TZID=Europe/Berlin:20240816T235959
DTSTAMP:20260421T142522
CREATED:20240123T165523Z
LAST-MODIFIED:20240124T152050Z
UID:6219-1723420800-1723852799@koelner-imkerverein.de
SUMMARY:Trickfilm Workshop
DESCRIPTION:Lerne Trickfilmen und erfahre dabei eine Menge über die Natur.
URL:https://koelner-imkerverein.de/termin/trickfilm-workshop/
LOCATION:Finkens Garten\, Friedrich–Ebert–Straße 49\, Köln\, Nordrhein-Westfalen\, 50996
ATTACH;FMTTYPE=image/jpeg:https://koelner-imkerverein.de/wp-content/uploads/2024/01/KIV_Trickfilmworkshop@AnneKleiber-13-scaled.jpg
END:VEVENT
END:VCALENDAR