BEGIN:VCALENDAR
VERSION:2.0
PRODID:-//Kölner Imkerverein - ECPv6.15.20//NONSGML v1.0//EN
CALSCALE:GREGORIAN
METHOD:PUBLISH
X-WR-CALNAME:Kölner Imkerverein
X-ORIGINAL-URL:https://koelner-imkerverein.de
X-WR-CALDESC:Veranstaltungen für Kölner Imkerverein
REFRESH-INTERVAL;VALUE=DURATION:PT1H
X-Robots-Tag:noindex
X-PUBLISHED-TTL:PT1H
BEGIN:VTIMEZONE
TZID:Europe/Berlin
BEGIN:DAYLIGHT
TZOFFSETFROM:+0100
TZOFFSETTO:+0200
TZNAME:CEST
DTSTART:20230326T010000
END:DAYLIGHT
BEGIN:STANDARD
TZOFFSETFROM:+0200
TZOFFSETTO:+0100
TZNAME:CET
DTSTART:20231029T010000
END:STANDARD
BEGIN:DAYLIGHT
TZOFFSETFROM:+0100
TZOFFSETTO:+0200
TZNAME:CEST
DTSTART:20240331T010000
END:DAYLIGHT
BEGIN:STANDARD
TZOFFSETFROM:+0200
TZOFFSETTO:+0100
TZNAME:CET
DTSTART:20241027T010000
END:STANDARD
BEGIN:DAYLIGHT
TZOFFSETFROM:+0100
TZOFFSETTO:+0200
TZNAME:CEST
DTSTART:20250330T010000
END:DAYLIGHT
BEGIN:STANDARD
TZOFFSETFROM:+0200
TZOFFSETTO:+0100
TZNAME:CET
DTSTART:20251026T010000
END:STANDARD
END:VTIMEZONE
BEGIN:VEVENT
DTSTART;TZID=Europe/Berlin:20240912T180000
DTEND;TZID=Europe/Berlin:20240912T210000
DTSTAMP:20260423T122742
CREATED:20240826T162030Z
LAST-MODIFIED:20240826T162031Z
UID:7538-1726164000-1726174800@koelner-imkerverein.de
SUMMARY:Vorstandsversammlung (intern)
DESCRIPTION:
URL:https://koelner-imkerverein.de/termin/vorstandsversammlung-intern/
LOCATION:Nordrhein-Westfalen
END:VEVENT
END:VCALENDAR